BEGIN:VCALENDAR
VERSION:2.0
PRODID:-//Cambridge Matchless MCC - ECPv6.15.20//NONSGML v1.0//EN
CALSCALE:GREGORIAN
METHOD:PUBLISH
X-WR-CALNAME:Cambridge Matchless MCC
X-ORIGINAL-URL:https://cambridgematchless.co.uk
X-WR-CALDESC:Events for Cambridge Matchless MCC
REFRESH-INTERVAL;VALUE=DURATION:PT1H
X-Robots-Tag:noindex
X-PUBLISHED-TTL:PT1H
BEGIN:VTIMEZONE
TZID:UTC
BEGIN:STANDARD
TZOFFSETFROM:+0000
TZOFFSETTO:+0000
TZNAME:UTC
DTSTART:20250101T000000
END:STANDARD
END:VTIMEZONE
BEGIN:VEVENT
DTSTART;TZID=UTC:20261101T103000
DTEND;TZID=UTC:20261101T170000
DTSTAMP:20260425T172836
CREATED:20251222T173554Z
LAST-MODIFIED:20251222T173825Z
UID:4580-1793529000-1793552400@cambridgematchless.co.uk
SUMMARY:Chris Wood Trial 2026
DESCRIPTION:
URL:https://cambridgematchless.co.uk/event/chris-wood-trial-2026/
LOCATION:The Cutting\, Hinxton Estates\, Titchbaulke Road\, Hinxton\, CB10 1RG\, 52.090986\, 0.200216
END:VEVENT
END:VCALENDAR