BEGIN:VCALENDAR
VERSION:2.0
PRODID:-//Cambridge Matchless MCC - ECPv6.15.20//NONSGML v1.0//EN
CALSCALE:GREGORIAN
METHOD:PUBLISH
X-WR-CALNAME:Cambridge Matchless MCC
X-ORIGINAL-URL:https://cambridgematchless.co.uk
X-WR-CALDESC:Events for Cambridge Matchless MCC
REFRESH-INTERVAL;VALUE=DURATION:PT1H
X-Robots-Tag:noindex
X-PUBLISHED-TTL:PT1H
BEGIN:VTIMEZONE
TZID:UTC
BEGIN:STANDARD
TZOFFSETFROM:+0000
TZOFFSETTO:+0000
TZNAME:UTC
DTSTART:20250101T000000
END:STANDARD
END:VTIMEZONE
BEGIN:VEVENT
DTSTART;TZID=UTC:20260913T103000
DTEND;TZID=UTC:20260913T170000
DTSTAMP:20260425T145628
CREATED:20251222T173311Z
LAST-MODIFIED:20251222T173311Z
UID:4576-1789295400-1789318800@cambridgematchless.co.uk
SUMMARY:Ken Wood Trial 2026
DESCRIPTION:
URL:https://cambridgematchless.co.uk/event/ken-wood-trial-2026/
LOCATION:To Be Advised
END:VEVENT
END:VCALENDAR