BEGIN:VCALENDAR
VERSION:2.0
PRODID:-//Cambridge Matchless MCC - ECPv6.15.20//NONSGML v1.0//EN
CALSCALE:GREGORIAN
METHOD:PUBLISH
X-ORIGINAL-URL:https://cambridgematchless.co.uk
X-WR-CALDESC:Events for Cambridge Matchless MCC
REFRESH-INTERVAL;VALUE=DURATION:PT1H
X-Robots-Tag:noindex
X-PUBLISHED-TTL:PT1H
BEGIN:VTIMEZONE
TZID:UTC
BEGIN:STANDARD
TZOFFSETFROM:+0000
TZOFFSETTO:+0000
TZNAME:UTC
DTSTART:20250101T000000
END:STANDARD
END:VTIMEZONE
BEGIN:VEVENT
DTSTART;TZID=UTC:20260703T180000
DTEND;TZID=UTC:20260703T203000
DTSTAMP:20260425T120539
CREATED:20260402T195557Z
LAST-MODIFIED:20260412T163634Z
UID:4633-1783101600-1783110600@cambridgematchless.co.uk
SUMMARY:2026 - Summer series #3
DESCRIPTION:
URL:https://cambridgematchless.co.uk/event/2026-summer-series-3/
LOCATION:The Quarry\, Balsham Road\, Balsham\, CB21 4HE\, 52.135788\, 0.297652
END:VEVENT
BEGIN:VEVENT
DTSTART;TZID=UTC:20260731T180000
DTEND;TZID=UTC:20260731T203000
DTSTAMP:20260425T120539
CREATED:20260402T195720Z
LAST-MODIFIED:20260412T163812Z
UID:4635-1785520800-1785529800@cambridgematchless.co.uk
SUMMARY:2026 - Summer series #4
DESCRIPTION:
URL:https://cambridgematchless.co.uk/event/2026-summer-series-4/
LOCATION:The Quarry\, Balsham Road\, Balsham\, CB21 4HE\, 52.135788\, 0.297652
END:VEVENT
END:VCALENDAR