BEGIN:VCALENDAR
VERSION:2.0
PRODID:-//Cambridge Matchless MCC - ECPv6.15.20//NONSGML v1.0//EN
CALSCALE:GREGORIAN
METHOD:PUBLISH
X-ORIGINAL-URL:https://cambridgematchless.co.uk
X-WR-CALDESC:Events for Cambridge Matchless MCC
REFRESH-INTERVAL;VALUE=DURATION:PT1H
X-Robots-Tag:noindex
X-PUBLISHED-TTL:PT1H
BEGIN:VTIMEZONE
TZID:UTC
BEGIN:STANDARD
TZOFFSETFROM:+0000
TZOFFSETTO:+0000
TZNAME:UTC
DTSTART:20250101T000000
END:STANDARD
END:VTIMEZONE
BEGIN:VEVENT
DTSTART;TZID=UTC:20260301T103000
DTEND;TZID=UTC:20260301T150000
DTSTAMP:20260419T173515
CREATED:20250201T202010Z
LAST-MODIFIED:20250201T202010Z
UID:4055-1772361000-1772377200@cambridgematchless.co.uk
SUMMARY:Brian Stonebridge Trial 2026
DESCRIPTION:
URL:https://cambridgematchless.co.uk/event/brian-stonebridge-trial-2026/
LOCATION:Park Farm\, Little Walden\, Cambs CB10 1XB\, 52.06134685735559\, 0.26955426757819617
END:VEVENT
BEGIN:VEVENT
DTSTART;TZID=UTC:20260326T193000
DTEND;TZID=UTC:20260326T210000
DTSTAMP:20260419T173515
CREATED:20260309T125004Z
LAST-MODIFIED:20260309T125040Z
UID:4624-1774553400-1774558800@cambridgematchless.co.uk
SUMMARY:Club AGM
DESCRIPTION:Hi All \nThe Club is holding its AGM on Thursday 26th March\, 7.30pm in Milton Bowls Club Pavilion\, CB24 6BL\, this is on the same site as the Community Centre and Recreation Ground \, off Coles Road\, Milton\, CB24 6BL.  On entering the car park turn right and the Pavilion is just behind the Parish Council Office. \nPlease let me know if you are interested in joining the Committee and if you have any items for the Agenda. \n  \nColin
URL:https://cambridgematchless.co.uk/event/club-agm/
LOCATION:Milton Bowls Club Pavillion\, 52.240685\, 0.160145
END:VEVENT
END:VCALENDAR